BEGIN:VCALENDAR
VERSION:2.0
PRODID:-//Elder House - ECPv6.15.20//NONSGML v1.0//EN
CALSCALE:GREGORIAN
METHOD:PUBLISH
X-ORIGINAL-URL:https://elderhouse.org
X-WR-CALDESC:Events for Elder House
REFRESH-INTERVAL;VALUE=DURATION:PT1H
X-Robots-Tag:noindex
X-PUBLISHED-TTL:PT1H
BEGIN:VTIMEZONE
TZID:UTC
BEGIN:STANDARD
TZOFFSETFROM:+0000
TZOFFSETTO:+0000
TZNAME:UTC
DTSTART:20250101T000000
END:STANDARD
END:VTIMEZONE
BEGIN:VEVENT
DTSTART;TZID=UTC:20260416T183000
DTEND;TZID=UTC:20260416T213000
DTSTAMP:20260421T230246
CREATED:20260218T185309Z
LAST-MODIFIED:20260416T130633Z
UID:2820-1776364200-1776375000@elderhouse.org
SUMMARY:2026 Night at the Aquarium
DESCRIPTION:Night at the Aquarium – A Celebration of Community Event to Benefit ElderHouse\,\na 501(c)(3) not-for-profit Adult Day Center located in Fairfield County. \nJoin us to celebrate our community partners as we honor\nThe Bauer Family Foundation\nJill Robey – Flower Again\nPhilip LiCastri – Philonetics\, LLC \nThursday\, April 16\, 2026\n6:30pm – 9:30pm\nThe Maritime Aquarium at Norwalk
URL:https://elderhouse.org/event/2026-night-at-the-aquarium/
LOCATION:The Maritime Center at Norwalk\, 10 North Water Street\, Norwalk\, CT\, 06854\, United States
ATTACH;FMTTYPE=image/jpeg:https://elderhouse.org/wp-content/uploads/2026/03/2026-Night-at-the-Aquarium-event-home.jpg
ORGANIZER;CN="ElderHouse Adult Day Center":MAILTO:info@elderhouse.org
END:VEVENT
END:VCALENDAR