BEGIN:VCALENDAR
VERSION:2.0
PRODID:-//Elder House - ECPv6.15.20//NONSGML v1.0//EN
CALSCALE:GREGORIAN
METHOD:PUBLISH
X-WR-CALNAME:Elder House
X-ORIGINAL-URL:https://elderhouse.org
X-WR-CALDESC:Events for Elder House
REFRESH-INTERVAL;VALUE=DURATION:PT1H
X-Robots-Tag:noindex
X-PUBLISHED-TTL:PT1H
BEGIN:VTIMEZONE
TZID:UTC
BEGIN:STANDARD
TZOFFSETFROM:+0000
TZOFFSETTO:+0000
TZNAME:UTC
DTSTART:20240101T000000
END:STANDARD
END:VTIMEZONE
BEGIN:VEVENT
DTSTART;TZID=UTC:20251202T130000
DTEND;TZID=UTC:20251202T140000
DTSTAMP:20260422T005136
CREATED:20251117T153539Z
LAST-MODIFIED:20251202T134612Z
UID:2210-1764680400-1764684000@elderhouse.org
SUMMARY:Organize & Declutter
DESCRIPTION:Whether you are decluttering\, downsizing\, or preparing your home for sale\,\njoin us for valuable insights and practical tips! \nLearn do-it-yourself strategies for effective home organization\nand how to sell household goods and furniture! \nFREE AND OPEN TO THE PUBLIC\nREGISTER TODAY!
URL:https://elderhouse.org/event/organizeanddeclutter/
LOCATION:ElderHouse Adult Day Center\, 7 Lewis Street\, Norwalk\, 06851\, United States
ATTACH;FMTTYPE=image/jpeg:https://elderhouse.org/wp-content/uploads/2025/11/ElderHouse-Declutter-12.2.25-Event.jpg
ORGANIZER;CN="ElderHouse Adult Day Center":MAILTO:info@elderhouse.org
END:VEVENT
BEGIN:VEVENT
DTSTART;TZID=UTC:20251201T000000
DTEND;TZID=UTC:20260131T000000
DTSTAMP:20260422T005136
CREATED:20251201T202307Z
LAST-MODIFIED:20251201T202835Z
UID:2502-1764547200-1769817600@elderhouse.org
SUMMARY:2025 Annual Appeal
DESCRIPTION:ElderHouse Adult Day Center provides the support\, socialization\, and care that allows older adults to remain living at home as they age. As a state-certified medical and social adult day center\, ElderHouse is one of few in our area that offers scholarships to families in need. Despite the relatively low cost of adult day care\, many families still cannot afford to attend regularly. ElderHouse\, a 501(c)(3) not-for-profit organization\, does not turn people away because of their inability to pay; and does not receive any regular funding to cover many of our clients’ needs. We simply cannot do this without you. \nPlease help us support older adults in our community\, so they may age with dignity\, remain living in their own homes\, and help prevent unnecessary nursing home placement. \nThank you!
URL:https://elderhouse.org/event/2025-annual-appeal/
LOCATION:CT
ATTACH;FMTTYPE=image/jpeg:https://elderhouse.org/wp-content/uploads/2025/12/2025-AA-Event.jpg
END:VEVENT
BEGIN:VEVENT
DTSTART;TZID=UTC:20251030T183000
DTEND;TZID=UTC:20251030T213000
DTSTAMP:20260422T005136
CREATED:20250616T141745Z
LAST-MODIFIED:20251125T171528Z
UID:625-1761849000-1761859800@elderhouse.org
SUMMARY:Diamonds and Deceptions - A Jewelry Heist Mystery to Benefit ElderHouse
DESCRIPTION:Don’t miss Diamonds and Deception – A Jewelry Heist Mystery Benefit Event for ElderHouse\,\na 501(c)(3) not-for-profit Adult Day Center located in Fairfield County.\nTickets and tables are now on sale for this immersive experience presented by The Murder Mystery Company.\nEnjoy a live-action whodunit set in the roaring 1920s during this dinner theatre-style event. \nA great team-building opportunity – bring your coworkers and friends!\nPrize for Best Costume\nAccessories available for purchase at the event\nGourmet dinner provided by Bridges by EPOCH at Norwalk \nDate & Time: Thursday\, October 30\, 2025\, from 6:30 PM to 9:30 PM\nLocation: ElderHouse Adult Day Center – 7 Lewis Street\, Norwalk\, CT \nFor tickets\, visit: https://4agc.com/landing/elderhouse-event\nUnable to attend\, please consider a donation to support ElderHouse!
URL:https://elderhouse.org/event/jewelryheist/
LOCATION:ElderHouse Adult Day Center\, 7 Lewis Street\, Norwalk\, 06851\, United States
ATTACH;FMTTYPE=image/jpeg:https://elderhouse.org/wp-content/uploads/2025/06/JHM25-Event-Tab2.jpg
ORGANIZER;CN="ElderHouse Adult Day Center":MAILTO:info@elderhouse.org
END:VEVENT
BEGIN:VEVENT
DTSTART;TZID=UTC:20250403T183000
DTEND;TZID=UTC:20250403T213000
DTSTAMP:20260422T005136
CREATED:20251125T165844Z
LAST-MODIFIED:20251125T171149Z
UID:2439-1743705000-1743715800@elderhouse.org
SUMMARY:Night at the Aquarium
DESCRIPTION:Night at the Aquarium – A Celebration of Community Event to Benefit ElderHouse\,\na 501(c)(3) not-for-profit Adult Day Center located in Fairfield County.\nJoin us to celebrate our community partners as we honor\nRichard Tavella (Rick’s Main Roofing LTD and ElderHouse Board Member)\nand Greens Farms Academy’s Community Services Program. \nThursday\, April 3rd from 6:30pm to 9:30pm at The Maritime Center at Norwalk.
URL:https://elderhouse.org/event/night-at-the-aquarium/
LOCATION:The Maritime Center at Norwalk\, 10 North Water Street\, Norwalk\, CT\, 06854\, United States
ATTACH;FMTTYPE=image/jpeg:https://elderhouse.org/wp-content/uploads/2025/11/ElderHouse-Night-at-Aquarium-Event.jpg
ORGANIZER;CN="ElderHouse Adult Day Center":MAILTO:info@elderhouse.org
END:VEVENT
END:VCALENDAR